BEGIN:VCALENDAR
VERSION:2.0
PRODID:-//Asheba - ECPv6.3.7//NONSGML v1.0//EN
CALSCALE:GREGORIAN
METHOD:PUBLISH
X-ORIGINAL-URL:http://asheba.net
X-WR-CALDESC:Events for Asheba
REFRESH-INTERVAL;VALUE=DURATION:PT1H
X-Robots-Tag:noindex
X-PUBLISHED-TTL:PT1H
BEGIN:VTIMEZONE
TZID:UTC
BEGIN:STANDARD
TZOFFSETFROM:+0000
TZOFFSETTO:+0000
TZNAME:UTC
DTSTART:20230101T000000
END:STANDARD
END:VTIMEZONE
BEGIN:VEVENT
DTSTART;TZID=UTC:20230610T110000
DTEND;TZID=UTC:20230610T114500
DTSTAMP:20260422T084016
CREATED:20230523T010043Z
LAST-MODIFIED:20230523T010045Z
UID:542-1686394800-1686397500@asheba.net
SUMMARY:Oakland Temescal Branch Library
DESCRIPTION:
URL:http://asheba.net/event/oakland-temescal-branch-library/
LOCATION:5205 Telegraph Avenue    Oakland\, CA  94609
END:VEVENT
BEGIN:VEVENT
DTSTART;TZID=UTC:20230603T113000
DTEND;TZID=UTC:20230603T121500
DTSTAMP:20260422T084016
CREATED:20230523T005114Z
LAST-MODIFIED:20230523T005116Z
UID:538-1685791800-1685794500@asheba.net
SUMMARY:Oakland Melrose Branch Library
DESCRIPTION:
URL:http://asheba.net/event/oakland-melrose-branch-library/
LOCATION:4805 Foothill Blvd. Oakland\, CA 94601
END:VEVENT
BEGIN:VEVENT
DTSTART;TZID=UTC:20230601T101500
DTEND;TZID=UTC:20230601T110000
DTSTAMP:20260422T084016
CREATED:20230523T004221Z
LAST-MODIFIED:20230523T004351Z
UID:534-1685614500-1685617200@asheba.net
SUMMARY:Oakland Lakeview Branch Library
DESCRIPTION:
URL:http://asheba.net/event/oakland-lakeview-branch-library/
LOCATION:550 El Embarcadero\, Oakland\, CA 94610
END:VEVENT
BEGIN:VEVENT
DTSTART;TZID=UTC:20230531T140000
DTEND;TZID=UTC:20230531T144500
DTSTAMP:20260422T084016
CREATED:20230522T232730Z
LAST-MODIFIED:20230522T232732Z
UID:527-1685541600-1685544300@asheba.net
SUMMARY:Oakland Elmhurst Branch Library
DESCRIPTION:
URL:http://asheba.net/event/oakland-elmhurst-branch-library/
LOCATION:1427 88th Avenue\, Oakland\, CA 94621
END:VEVENT
BEGIN:VEVENT
DTSTART;TZID=UTC:20230527T103000
DTEND;TZID=UTC:20230527T111500
DTSTAMP:20260422T084016
CREATED:20230522T205757Z
LAST-MODIFIED:20230522T233029Z
UID:523-1685183400-1685186100@asheba.net
SUMMARY:Oakland Main Library Children’s Room
DESCRIPTION:
URL:http://asheba.net/event/523/
LOCATION:125 14th Street\, Oakland\, CA 94612
END:VEVENT
END:VCALENDAR